BEGIN:VCALENDAR
VERSION:2.0
METHOD:PUBLISH
PRODID:-//imacoda.com//SPD-Web-O-Mat//EN
CALSCALE:GREGORIAN
BEGIN:VTIMEZONE
TZID:Europe/Berlin
BEGIN:DAYLIGHT
TZOFFSETFROM:+0100
RRULE:FREQ=YEARLY;BYMONTH=3;BYDAY=-1SU
DTSTART:19810329T020000
TZNAME:MESZ
TZOFFSETTO:+0200
END:DAYLIGHT
BEGIN:STANDARD
TZOFFSETFROM:+0200
RRULE:FREQ=YEARLY;BYMONTH=10;BYDAY=-1SU
DTSTART:19961027T030000
TZNAME:MEZ
TZOFFSETTO:+0100
END:STANDARD
END:VTIMEZONE
BEGIN:VEVENT
UID:20210112T095232Z-00000560484-LULU@www.bayernspd.de
CREATED:20210112T095232Z
LAST-MODIFIED:20210112T095232Z
DTSTAMP:20210112T095232Z
TRANSP:TRANSPARENT
DTSTART;TZID=Europe/Berlin:20210125T183000
DTEND;TZID=Europe/Berlin:20210125T193000
SUMMARY:Geschäftsführender Vorstand SPD München
LOCATION:Online-Veranstaltung
DESCRIPTION:Termin im Web (Florian von Brunn):\nhttps://florianvonbrunn.
 de/termine/?id=560484
END:VEVENT
END:VCALENDAR
