BEGIN:VCALENDAR
VERSION:2.0
METHOD:PUBLISH
PRODID:-//imacoda.com//SPD-Web-O-Mat//EN
CALSCALE:GREGORIAN
BEGIN:VTIMEZONE
TZID:Europe/Berlin
BEGIN:DAYLIGHT
TZOFFSETFROM:+0100
RRULE:FREQ=YEARLY;BYMONTH=3;BYDAY=-1SU
DTSTART:19810329T020000
TZNAME:MESZ
TZOFFSETTO:+0200
END:DAYLIGHT
BEGIN:STANDARD
TZOFFSETFROM:+0200
RRULE:FREQ=YEARLY;BYMONTH=10;BYDAY=-1SU
DTSTART:19961027T030000
TZNAME:MEZ
TZOFFSETTO:+0100
END:STANDARD
END:VTIMEZONE
BEGIN:VEVENT
UID:20200724T113617Z-00000537226-LULU@www.bayernspd.de
CREATED:20200724T113617Z
LAST-MODIFIED:20200724T113617Z
DTSTAMP:20200724T113617Z
TRANSP:TRANSPARENT
DTSTART;TZID=Europe/Berlin:20200813T190000
DTEND;TZID=Europe/Berlin:20200813T220000
SUMMARY:Podiumsdiskussion ‚Ein Thema\, dass zusammenführt? – Klimakrise 
 und Umweltpolitik in Europa‘ mit Florian von Brunn
LOCATION:Am Aspensteinbichl 9-11\, Kochel am See\, Georg-von-Vollmar-Aka
 demie
DESCRIPTION:Termin im Web (Florian von Brunn):\nhttps://florianvonbrunn.
 de/termine/?id=537226
END:VEVENT
END:VCALENDAR
